BEGIN:VCALENDAR
VERSION:2.0
PRODID:-//TATSU-RYU-BUSHIDO.com - ECPv6.15.12.2//NONSGML v1.0//EN
CALSCALE:GREGORIAN
METHOD:PUBLISH
X-WR-CALNAME:TATSU-RYU-BUSHIDO.com
X-ORIGINAL-URL:https://tatsu-ryu-bushido.com
X-WR-CALDESC:Veranstaltungen für TATSU-RYU-BUSHIDO.com
REFRESH-INTERVAL;VALUE=DURATION:PT1H
X-Robots-Tag:noindex
X-PUBLISHED-TTL:PT1H
BEGIN:VTIMEZONE
TZID:Europe/Berlin
BEGIN:DAYLIGHT
TZOFFSETFROM:+0100
TZOFFSETTO:+0200
TZNAME:CEST
DTSTART:20250330T010000
END:DAYLIGHT
BEGIN:STANDARD
TZOFFSETFROM:+0200
TZOFFSETTO:+0100
TZNAME:CET
DTSTART:20251026T010000
END:STANDARD
BEGIN:DAYLIGHT
TZOFFSETFROM:+0100
TZOFFSETTO:+0200
TZNAME:CEST
DTSTART:20260329T010000
END:DAYLIGHT
BEGIN:STANDARD
TZOFFSETFROM:+0200
TZOFFSETTO:+0100
TZNAME:CET
DTSTART:20261025T010000
END:STANDARD
BEGIN:DAYLIGHT
TZOFFSETFROM:+0100
TZOFFSETTO:+0200
TZNAME:CEST
DTSTART:20270328T010000
END:DAYLIGHT
BEGIN:STANDARD
TZOFFSETFROM:+0200
TZOFFSETTO:+0100
TZNAME:CET
DTSTART:20271031T010000
END:STANDARD
END:VTIMEZONE
BEGIN:VEVENT
DTSTART;TZID=Europe/Berlin:20260128T183000
DTEND;TZID=Europe/Berlin:20260128T192500
DTSTAMP:20260425T121816
CREATED:20260110T185011Z
LAST-MODIFIED:20260110T185110Z
UID:10000443-1769625000-1769628300@tatsu-ryu-bushido.com
SUMMARY:🇩🇪 Tatsu-Ryu-Bushido für Kinder 10-13 Jahren – KIDS2 - in Limburgerhof + Kinder mit weiß-grün
DESCRIPTION:KIDS2-MITTWOCHS: Abwechslungsreiches Kampfkunsttraining von 18:30 bis 19:25 Uhr für Kinder im Alter von  10 bis 13 Jahren.  Zudem empfohlen für alle Kinder unter 10 Jahren mit einem weiß-grünen Gürtel (7. Kyu). Auf den Spuren der Samurai mit einem vielfältigen „Gesundheitssport für Kinder“ mit verschiedenen Übungen mit und ohne Holzwaffen\, wie dem japanischen Holzschwert und Kurzstock. \n§ 20 Primäre Prävention und Gesundheitsförderung durch die Krankenkassen anerkannt!. \n# Zielgruppe: Kinder 10 bis 13 Jahren + weiß-grün \n# mittwochs: 18:30-19:25 Uhr \n# Trainerteam: Fabian Birkle\, 2. Dan\, Julia Arz\, Rich Hillmann und weitere \n# Hinweis: Das Training findet in der CBS-Gymnastikhalle (rechts) statt! Umkleide im Keller – nicht in der Halle!\n			\n				\n				\n				\n				\n				\n					 \n					KIDS 2: Noch freie Plätze in dieser Gruppe MI 18:30-19:25\n				\n			\n				\n				\n				\n				\n				Interessenten\, die den Verein und das großartige Programm kennen lernen möchten\, sind herzlich Willkommen. Bitte zuvor erkundigen\, ob es in der entsprechenden Gruppe noch freie Plätze gibt! Vor dem ersten Besuch einmalig zu einer Probemitgliedschaft  registrieren. Die Probemitgliedschaft gilt dann bis zu vier Wochen und gilt auch für den Erstbesuch! Danach jeweils für das gewünschte Training registrieren. HINWEIS: Das Erste Probetraining mit Eltern\, ist immer NUR am ersten Trainingstag im Monat Möglich! \n# Mehr über die Kampfkunst Tatsu-Ryu-Bushido: https://tatsu-ryu-bushido.com/tatsu-ryu-bushido/ \n# Anerkanntes Gesundheitsangebot: https://tatsu-ryu-bushido.com/sport-pro-gesundheit/ \n# Probemitgliedschaft abschließen: https://tatsu-ryu-bushido.com/probemitgliedschaft/ \n# Meine Trainingsanmeldungen verwalten (Login zuvor erforderlich) – weiter >>>\n			\n			\n				\n				\n				\n				\n				\n				\n				\n				\n				\n				Wie ist das Wetter in Limburgerhof und Umgebung?\n			\n				\n				\n				\n				\n				\n				\n				\n					\n				\n				  \n				  \n				  Klarer Himmel\n			  \n				  \n				  17° C\n				  17° C | 18° C\n			  \n				  \n			  \n			    \n				  \n				    2.06 \n					  m/s\n				  \n			  \n			  46 %\n			  1018 hPa\n		  \n			  \n				\n			    \n					  \n							Sat 25. Apr 26\n							Ein paar Wolken\n						\n						\n							\n							11° C|20° C\n						\n					\n					  \n							Sun 26. Apr 26\n							Klarer Himmel\n						\n						\n							\n							7° C|19° C\n						\n					\n					  \n							Mon 27. Apr 26\n							Überwiegend bewölkt\n						\n						\n							\n							10° C|20° C\n						\n					\n					  \n							Tue 28. Apr 26\n							Überwiegend bewölkt\n						\n						\n							\n							10° C|14° C\n						\n					\n					  \n							Wed 29. Apr 26\n							Überwiegend bewölkt\n						\n						\n							\n							7° C|18° C\n						\n					\n			  \n			\n				\n			\n				\n				\n				\n				\n				Wegbeschreibung: CBS-Sporthallen: Carl-Bosch-Straße 9\, 67117 Limburgerhof \n			\n				\n				\n				\n				\n				Sie sehen gerade einen Platzhalterinhalt von Google Maps. Um auf den eigentlichen Inhalt zuzugreifen\, klicken Sie auf die Schaltfläche unten. Bitte beachten Sie\, dass dabei Daten an Drittanbieter weitergegeben werden. Mehr Informationen  Inhalt entsperren Erforderlichen Service akzeptieren und Inhalte entsperren \n			\n				Hinweis & Regeln zum anmelden zu Kursangeboten\n			\n			\n				\n				\n				\n				\n			\n				\n				\n				\n				\n				\n				\n				\n				\n				\n				\n				Wichtiger Hinweis an unsere Mitglieder: Für die Trainingsplanung ist es zwingend erforderlich zu Wissen\, wer an der anstehenden Trainingseinheit teilnimmt. Bitte jeweils ein Tag zuvor bis 20 Uhr spätestens sich zu dem Termin zu registrieren. Anschließend am gleichen Abend plant der Trainer das Training. Sind nicht mindestens 3 Anmeldungen bis dahin eingegangen\, wird das jeweilige Training abgesagt! Wir bitten ebenfalls die o.g. Frist\, wenn möglich\, für Absagen zu nutzen. Natürlich kann man sich weiterhin nach dieser Frist anmelden und teilnehmen. Das sollte jedoch aus Fairness zum jeweiligen Trainer und seinem ehrenamtlichen Einsatz\, eine Ausnahme bleiben.
URL:https://tatsu-ryu-bushido.com/termin/trb-limburgerhof-training-mi-kids2-2026-01-28/
LOCATION:🇩🇪 Carl-Bosch-Gymnastikhalle-Limburgerhof\, Carl-Bosch-Straße 9\, Limburgerhof\, Rheinland-Pfalz\, 67117\, Deutschland
CATEGORIES:2Schnupperstunde,Angebote-Kinder,DOJO-TRB-Limburgerhof 🇩🇪,TRB-Indoor (Hallentraining)
ATTACH;FMTTYPE=image/jpeg:https://tatsu-ryu-bushido.com/wp-content/uploads/2023/01/KIDS-2022-03-21B-WWW.jpg
ORGANIZER;CN="%F0%9F%87%A9%F0%9F%87%AA Tatsu-Ryu-Bushido Limburgerhof e.V.":MAILTO:limburgerhof@tatsu-ryu-bushido.com
GEO:49.41805;8.38915
X-APPLE-STRUCTURED-LOCATION;VALUE=URI;X-ADDRESS=🇩🇪 Carl-Bosch-Gymnastikhalle-Limburgerhof Carl-Bosch-Straße 9 Limburgerhof Rheinland-Pfalz 67117 Deutschland;X-APPLE-RADIUS=500;X-TITLE=Carl-Bosch-Straße 9:geo:8.38915,49.41805
END:VEVENT
BEGIN:VEVENT
DTSTART;TZID=Europe/Berlin:20260128T173000
DTEND;TZID=Europe/Berlin:20260128T182500
DTSTAMP:20260425T121816
CREATED:20260104T121446Z
LAST-MODIFIED:20260106T095004Z
UID:10000349-1769621400-1769624700@tatsu-ryu-bushido.com
SUMMARY:🇩🇪 Tatsu-Ryu-Bushido für Kinder 5-9 Jahren – KIDS1 - in Limburgerhof
DESCRIPTION:KIDS1-MITTWOCHS: Abwechslungsreiches Kampfkunsttraining von 17:30 bis 18:25 Uhr für Kinder im Alter von 5 bis 9 Jahren (optional bis 13 Jahren – wenn diese zeitlich NICHT an der Kurseinheit 18:30 – 19:25 Uhr teilnehmen können!). Auf den Spuren der Samurai mit einem vielfältigen „Gesundheitssport für Kinder“ mit verschiedenen Übungen mit und ohne Holzwaffen\, wie dem japanischen Holzschwert und Kurzstock. \n§ 20 Primäre Prävention und Gesundheitsförderung durch die Krankenkassen anerkannt!. \n# Zielgruppe: Kinder 5 bis 9 Jahren \n# mittwochs: 17:30-18:25 Uhr \n# Trainerteam: Julia Arz\, Rich Hillmann\, Angela Walter und weitere \n# Hinweis: Das Training findet in der CBS-Gymnastikhalle (rechts) statt! Umkleide im Keller – nicht in der Halle!\n			\n				\n				\n				\n				\n				\n					 \n					KIDS 1: Noch freie Plätze in dieser Gruppe MI 17:30-18:25\n				\n			\n				\n				\n				\n				\n				Schnuppertraining!!! Interessenten\, die den Verein und das großartige Programm kennen lernen möchten\, sind herzlich Willkommen. Bitte zuvor erkundigen\, ob es in der entsprechenden Gruppe noch freie Plätze gibt! Vor dem ersten Besuch einmalig zu einer Probemitgliedschaft  registrieren. Die Probemitgliedschaft gilt dann bis zu vier Wochen und gilt auch für den Erstbesuch! Danach jeweils für das gewünschte Training registrieren. HINWEIS: Das Erste Probetraining mit Eltern\, ist immer NUR am ersten Trainingstag im Monat Möglich! \n# Mehr über die Kampfkunst Tatsu-Ryu-Bushido: https://tatsu-ryu-bushido.com/tatsu-ryu-bushido/ \n# Anerkanntes Gesundheitsangebot: https://tatsu-ryu-bushido.com/sport-pro-gesundheit/ \n# Probemitgliedschaft abschließen: https://tatsu-ryu-bushido.com/probemitgliedschaft/ \n# Meine Trainingsanmeldungen verwalten (Login zuvor erforderlich) – weiter >>> \nKEIN ZUSATZTRAINING FÜR KIDS 3 (freitags) – Der Wechsel des Trainingstages ist\, wenn Platz vorhanden\, mit dem Trainerteam abzustimmen! \n			\n			\n				\n				\n				\n				\n				\n				\n				\n				\n				\n				Wie ist das Wetter in Limburgerhof und Umgebung?\n			\n				\n				\n				\n				\n				\n				\n				\n					\n				\n				  \n				  \n				  Klarer Himmel\n			  \n				  \n				  17° C\n				  17° C | 18° C\n			  \n				  \n			  \n			    \n				  \n				    2.06 \n					  m/s\n				  \n			  \n			  46 %\n			  1018 hPa\n		  \n			  \n				\n			    \n					  \n							Sat 25. Apr 26\n							Ein paar Wolken\n						\n						\n							\n							11° C|20° C\n						\n					\n					  \n							Sun 26. Apr 26\n							Klarer Himmel\n						\n						\n							\n							7° C|19° C\n						\n					\n					  \n							Mon 27. Apr 26\n							Überwiegend bewölkt\n						\n						\n							\n							10° C|20° C\n						\n					\n					  \n							Tue 28. Apr 26\n							Überwiegend bewölkt\n						\n						\n							\n							10° C|14° C\n						\n					\n					  \n							Wed 29. Apr 26\n							Überwiegend bewölkt\n						\n						\n							\n							7° C|18° C\n						\n					\n			  \n			\n				\n			\n				\n				\n				\n				\n				Wegbeschreibung: CBS-Sporthallen: Carl-Bosch-Straße 9\, 67117 Limburgerhof \n			\n				\n				\n				\n				\n				Sie sehen gerade einen Platzhalterinhalt von Google Maps. Um auf den eigentlichen Inhalt zuzugreifen\, klicken Sie auf die Schaltfläche unten. Bitte beachten Sie\, dass dabei Daten an Drittanbieter weitergegeben werden. Mehr Informationen  Inhalt entsperren Erforderlichen Service akzeptieren und Inhalte entsperren \n			\n				Hinweis & Regeln zum anmelden zu Kursangeboten\n			\n			\n				\n				\n				\n				\n			\n				\n				\n				\n				\n				\n				\n				\n				\n				\n				\n				Wichtiger Hinweis an unsere Mitglieder: Für die Trainingsplanung ist es zwingend erforderlich zu Wissen\, wer an der anstehenden Trainingseinheit teilnimmt. Bitte jeweils ein Tag zuvor bis 20 Uhr spätestens sich zu dem Termin zu registrieren. Anschließend am gleichen Abend plant der Trainer das Training. Sind nicht mindestens 3 Anmeldungen bis dahin eingegangen\, wird das jeweilige Training abgesagt! Wir bitten ebenfalls die o.g. Frist\, wenn möglich\, für Absagen zu nutzen. Natürlich kann man sich weiterhin nach dieser Frist anmelden und teilnehmen. Das sollte jedoch aus Fairness zum jeweiligen Trainer und seinem ehrenamtlichen Einsatz\, eine Ausnahme bleiben.
URL:https://tatsu-ryu-bushido.com/termin/trb-limburgerhof-training-mi-kids1-2026-01-28/
LOCATION:🇩🇪 Carl-Bosch-Gymnastikhalle-Limburgerhof\, Carl-Bosch-Straße 9\, Limburgerhof\, Rheinland-Pfalz\, 67117\, Deutschland
CATEGORIES:2Schnupperstunde,Angebote-Kinder,DOJO-TRB-Limburgerhof 🇩🇪,TRB-Indoor (Hallentraining)
ATTACH;FMTTYPE=image/jpeg:https://tatsu-ryu-bushido.com/wp-content/uploads/2023/09/CBS-Start-2023-09-06-23a.jpg
ORGANIZER;CN="%F0%9F%87%A9%F0%9F%87%AA Tatsu-Ryu-Bushido Limburgerhof e.V.":MAILTO:limburgerhof@tatsu-ryu-bushido.com
GEO:49.41805;8.38915
X-APPLE-STRUCTURED-LOCATION;VALUE=URI;X-ADDRESS=🇩🇪 Carl-Bosch-Gymnastikhalle-Limburgerhof Carl-Bosch-Straße 9 Limburgerhof Rheinland-Pfalz 67117 Deutschland;X-APPLE-RADIUS=500;X-TITLE=Carl-Bosch-Straße 9:geo:8.38915,49.41805
END:VEVENT
BEGIN:VEVENT
DTSTART;TZID=Europe/Berlin:20260127T190000
DTEND;TZID=Europe/Berlin:20260127T203000
DTSTAMP:20260425T121816
CREATED:20260110T144045Z
LAST-MODIFIED:20260110T144155Z
UID:10000437-1769540400-1769545800@tatsu-ryu-bushido.com
SUMMARY:🇩🇪 Tatsu-Ryu-Bushido für Jugendliche/Erwachsene/Jungsenioren - Mutterstadt
DESCRIPTION:Abwechslungsreiches Kampfkunsttraining dienstags 19:00 bis 20:30 Uhr in der Rundsporthalle in Mutterstadt (oberer Bereich 1. OG – nicht Halle EG) für Jugendliche ab 14 Jahre\, Erwachsene\, Jungsenioren (40-65+ Jahren)\, Eltern und Jugendliche ab 14 Jahren. Auf den Spuren der Samurai mit einem vielfältigen Gesundheitssport für Jung und Alt mit verschiedenen Übungen mit und ohne Holzwaffen\, wie dem japanischen Holzschwert und Kurzstock. Hier werden Haltung- und Bewegung verbessert\, das Herz- und Kreislauf System gestärkt und den Körper in Einklang mit Entspannungsübungen gebracht. Geeignet sowohl für Einsteiger\, Anfänger und Fortgeschrittene! \n# dienstags: 19:00-20:30 Uhr Mutterstadt \n# Treffpunkt umgezogen: 18:50 Uhr oberer Bereich 1 OG – nicht Halle EG \n# Trainerteam: Fabian Birkle\, 2. Dan\, Rolf Polke\, Lance Kaleta und weitere \n# Altersgruppe: Mindestalter 14 Jahre! \n# Schwerpunkt: Element Erde (Modul weiß & grün) – Besonders für Einsteiger geeignet! \n# Basis-Training Element Wasser\, mittwochs 18:30 Uhr in Limburgerhof! \nInteressenten\, die den Verein und das großartige Programm kennen lernen möchten\, sind herzlich Willkommen. Hierzu bitte zuvor einmalig zu einer Probemitgliedschaft zu registrieren. Die Probemitgliedschaft gilt dann bis zu vier Wochen und gilt auch für den Erstbesuch! Danach jeweils für das gewünschte Training registrieren. \n# Probemitgliedschaft abschließen: https://tatsu-ryu-bushido.com/probemitgliedschaft/ \n# Anerkanntes Gesundheitsangebot: https://tatsu-ryu-bushido.com/sport-pro-gesundheit/ \n# Mehr über die Kampfkunst Tatsu-Ryu-Bushido: https://tatsu-ryu-bushido.com/tatsu-ryu-bushido/ \n# Meine Trainingsanmeldungen verwalten (Login zuvor erforderlich) – weiter >>> \nWeiteres Training mittwochs: Hier kann zusätzlich das Tatsu-Ryu-Bushido Training im Dojo Limburgerhof 18:30 bis 20:00 Uhr in der Carl-Bosch-Gymnastikhalle genutzt werden! Trainings Dojo Limburgerhof >>> |Schwerpunkt Training: Element Wasser! \nWeiteres Training donnerstags: Hier kann zusätzlich das Tatsu-Ryu-Bushido Training im Dojo Waldsee 18:30 bis 20:00 Uhr in Mehrzweckraum neber der Kulturhalle genutzt werden! Trainings Dojo Waldsee >>> | Schwerpunkt Training:Element Wasser \nWeiteres Training freitags: Hier kann zusätzlich das Tatsu-Ryu-Bushido Training im Dojo Neuhofen 17:30 bis 19:00 Uhr in der Bühnensporthalle genutzt werden! Trainings Dojo Neuhofen >>> | Schwerpunkt Training: für Senioren und Teilnehmer mit körperlichen Einschränkungen\n			\n			\n				\n				\n				\n				\n				\n				\n				\n				\n				\n				Wie ist das Wetter in Mutterstadt und Umgebung?\n			\n				\n				\n				\n				\n				\n				\n				\n					\n				\n				  \n				  \n				  Klarer Himmel\n			  \n				  \n				  17° C\n				  17° C | 18° C\n			  \n				  \n			  \n			    \n				  \n				    2.06 \n					  m/s\n				  \n			  \n			  46 %\n			  1018 hPa\n		  \n			  \n				\n			    \n					  \n							Sat 25. Apr 26\n							Ein paar Wolken\n						\n						\n							\n							11° C|20° C\n						\n					\n					  \n							Sun 26. Apr 26\n							Klarer Himmel\n						\n						\n							\n							7° C|19° C\n						\n					\n					  \n							Mon 27. Apr 26\n							Überwiegend bewölkt\n						\n						\n							\n							10° C|20° C\n						\n					\n					  \n							Tue 28. Apr 26\n							Überwiegend bewölkt\n						\n						\n							\n							10° C|14° C\n						\n					\n					  \n							Wed 29. Apr 26\n							Überwiegend bewölkt\n						\n						\n							\n							7° C|18° C\n						\n					\n			  \n			\n				\n			\n				\n				\n				\n				\n				Wegbeschreibung: Rundsporthalle\, Raiffeisenstraße 1\, 67112 Mutterstadt \n			\n				\n				\n				\n				\n				Sie sehen gerade einen Platzhalterinhalt von Google Maps. Um auf den eigentlichen Inhalt zuzugreifen\, klicken Sie auf die Schaltfläche unten. Bitte beachten Sie\, dass dabei Daten an Drittanbieter weitergegeben werden. Mehr Informationen  Inhalt entsperren Erforderlichen Service akzeptieren und Inhalte entsperren \n			\n				\n				\n				\n				\n				Seminar Tipp SA 07.02.2026\n			\n				\n				\n				\n				\n				\n			\n			\n				\n				\n				\n				\n			\n				\n				\n				\n				\n				\n				\n				\n				\n				\n				\n				\n			\n			\n				\n				\n				\n				\n			\n				\n				\n				\n				\n				\n				\n				\n				\n				\n				\n				Wichtiger Hinweis an unsere Mitglieder: Für die Trainingsplanung ist es zwingend erforderlich zu Wissen\, wer an der anstehenden Trainingseinheit teilnimmt. Bitte jeweils ein Tag zuvor bis 20 Uhr spätestens sich zu dem Termin zu registrieren. Anschließend am gleichen Abend plant der Trainer das Training. Sind nicht mindestens 3 Anmeldungen bis dahin eingegangen\, wird das jeweilige Training abgesagt! Wir bitten ebenfalls die o.g. Frist\, wenn möglich\, für Absagen zu nutzen. Natürlich kann man sich weiterhin nach dieser Frist anmelden und teilnehmen. Das sollte jedoch aus Fairness zum jeweiligen Trainer und seinem ehrenamtlichen Einsatz\, eine Ausnahme bleiben.
URL:https://tatsu-ryu-bushido.com/termin/trb-mutterstadt-training-di-erwachsene-2026-01-27/
LOCATION:🇩🇪 Rundsporthalle Mutterstadt Pfalz – Trainingsstätte des Tatsu-Ryu-Bushido\, Raiffeisenstraße 1\, 67112 Mutterstadt\, Mutterstadt\, Rheinland-Pfalz\, 67112\, Deutschland
CATEGORIES:Angebote-Erwachsene,Angebote-Frauen,DOJO-TRB-Mutterstadt 🇩🇪,TRB-Indoor (Hallentraining)
ATTACH;FMTTYPE=image/jpeg:https://tatsu-ryu-bushido.com/wp-content/uploads/2025/06/Exam-Mutterstadt-2025-06-03-85Presse.jpg
ORGANIZER;CN="%F0%9F%87%A9%F0%9F%87%AA Tatsu-Ryu-Bushido Mutterstadt e.V.":MAILTO:mutterstadt@tatsu-ryu-bushido.com
GEO:49.4392702;8.3524895
X-APPLE-STRUCTURED-LOCATION;VALUE=URI;X-ADDRESS=🇩🇪 Rundsporthalle Mutterstadt Pfalz – Trainingsstätte des Tatsu-Ryu-Bushido Raiffeisenstraße 1 67112 Mutterstadt Mutterstadt Rheinland-Pfalz 67112 Deutschland;X-APPLE-RADIUS=500;X-TITLE=Raiffeisenstraße 1\, 67112 Mutterstadt:geo:8.3524895,49.4392702
END:VEVENT
END:VCALENDAR