BEGIN:VCALENDAR
VERSION:2.0
PRODID:-//TATSU-RYU-BUSHIDO.com - ECPv6.15.12.2//NONSGML v1.0//EN
CALSCALE:GREGORIAN
METHOD:PUBLISH
X-ORIGINAL-URL:https://tatsu-ryu-bushido.com
X-WR-CALDESC:Veranstaltungen für TATSU-RYU-BUSHIDO.com
REFRESH-INTERVAL;VALUE=DURATION:PT1H
X-Robots-Tag:noindex
X-PUBLISHED-TTL:PT1H
BEGIN:VTIMEZONE
TZID:Europe/Berlin
BEGIN:DAYLIGHT
TZOFFSETFROM:+0100
TZOFFSETTO:+0200
TZNAME:CEST
DTSTART:20250330T010000
END:DAYLIGHT
BEGIN:STANDARD
TZOFFSETFROM:+0200
TZOFFSETTO:+0100
TZNAME:CET
DTSTART:20251026T010000
END:STANDARD
BEGIN:DAYLIGHT
TZOFFSETFROM:+0100
TZOFFSETTO:+0200
TZNAME:CEST
DTSTART:20260329T010000
END:DAYLIGHT
BEGIN:STANDARD
TZOFFSETFROM:+0200
TZOFFSETTO:+0100
TZNAME:CET
DTSTART:20261025T010000
END:STANDARD
BEGIN:DAYLIGHT
TZOFFSETFROM:+0100
TZOFFSETTO:+0200
TZNAME:CEST
DTSTART:20270328T010000
END:DAYLIGHT
BEGIN:STANDARD
TZOFFSETFROM:+0200
TZOFFSETTO:+0100
TZNAME:CET
DTSTART:20271031T010000
END:STANDARD
END:VTIMEZONE
BEGIN:VEVENT
DTSTART;VALUE=DATE:20260424
DTEND;VALUE=DATE:20260713
DTSTAMP:20260425T133244
CREATED:20260424T064726Z
LAST-MODIFIED:20260424T064910Z
UID:10000632-1776988800-1783900799@tatsu-ryu-bushido.com
SUMMARY:🇩🇪 Übersicht der Sonntagslehrgänge April bis Juli 2026
DESCRIPTION:Dieser Eintrag bietet eine allgemeine Übersicht der geplanten Lehrgänge an Sonntagen im Zeitraum von April bis Juli 2026. Für detaillierte Informationen zu einzelnen Veranstaltungen sowie Anmeldemöglichkeiten werden in Kürze individuelle Termine bereitgestellt. Angebotene Lehrgänge: \n\nVielfältige Kurse speziell für Vereinsmitglieder\nWeiterbildungen für aktive Trainer und Assistenten zur fachlichen Vertiefung\nTermine für das Projektteam Homepage und Film\, um aktuelle Projekte und Aufgaben zu koordinieren\n\nAktuell geplante Lehrgangstermine: \n\nSO 19.04.2026: Waffenlehrgang\nSO 10.05.2026: Thema offen!\nSO 31.05.2026: Thema offen!\nSO 14.06.2026: Thema offen!\nSO 28.06.2026: Thema offen!\nSO 12.07.2026 (Ferien): Trainer Weiterbildung\n\nLehrgangszeiten: \n\n11:00 – 12:30 Uhr (Block 1)\n13:00 – 14:30 Uhr (Block 2)\n15:00 – 16:00 Uhr (Optional: Block 3)\n\n			\n				\n				\n				\n				\n				\n			\n			\n				\n				\n				\n				\n				\n				\n				\n				\n				\n				Wie ist das Wetter in Limburgerhof und Umgebung?\n			\n				\n				\n				\n				\n				\n				\n				\n					\n				\n				  \n				  \n				  Klarer Himmel\n			  \n				  \n				  19° C\n				  18° C | 19° C\n			  \n				  \n			  \n			    \n				  \n				    3.09 \n					  m/s\n				  \n			  \n			  38 %\n			  1018 hPa\n		  \n			  \n				\n			    \n					  \n							Sat 25. Apr 26\n							Klarer Himmel\n						\n						\n							\n							11° C|20° C\n						\n					\n					  \n							Sun 26. Apr 26\n							Klarer Himmel\n						\n						\n							\n							7° C|19° C\n						\n					\n					  \n							Mon 27. Apr 26\n							Überwiegend bewölkt\n						\n						\n							\n							10° C|20° C\n						\n					\n					  \n							Tue 28. Apr 26\n							Überwiegend bewölkt\n						\n						\n							\n							10° C|14° C\n						\n					\n					  \n							Wed 29. Apr 26\n							Überwiegend bewölkt\n						\n						\n							\n							7° C|18° C\n						\n					\n			  \n			\n				\n			\n				\n				\n				\n				\n				Wegbeschreibung: CBS-Sporthallen: Carl-Bosch-Straße 9\, 67117 Limburgerhof \n			\n				\n				\n				\n				\n				Sie sehen gerade einen Platzhalterinhalt von Google Maps. Um auf den eigentlichen Inhalt zuzugreifen\, klicken Sie auf die Schaltfläche unten. Bitte beachten Sie\, dass dabei Daten an Drittanbieter weitergegeben werden. Mehr Informationen  Inhalt entsperren Erforderlichen Service akzeptieren und Inhalte entsperren \n			\n				Hinweis & Regeln zum anmelden zu Kursangeboten\n			\n			\n				\n				\n				\n				\n			\n				\n				\n				\n				\n				\n				\n				\n				\n				\n				\n				Wichtiger Hinweis an unsere Mitglieder: Für die Trainingsplanung ist es zwingend erforderlich zu Wissen\, wer an der anstehenden Trainingseinheit teilnimmt. Bitte jeweils ein Tag zuvor bis 20 Uhr spätestens sich zu dem Termin zu registrieren. Anschließend am gleichen Abend plant der Trainer das Training. Sind nicht mindestens 3 Anmeldungen bis dahin eingegangen\, wird das jeweilige Training abgesagt! Wir bitten ebenfalls die o.g. Frist\, wenn möglich\, für Absagen zu nutzen. Natürlich kann man sich weiterhin nach dieser Frist anmelden und teilnehmen. Das sollte jedoch aus Fairness zum jeweiligen Trainer und seinem ehrenamtlichen Einsatz\, eine Ausnahme bleiben.
URL:https://tatsu-ryu-bushido.com/termin/uebersicht-sonntagslehrgaenge-april-juli2026/
LOCATION:🇩🇪 Carl-Bosch-Halle-Limburgerhof\, Carl-Bosch-Straße 9\, Limburgerhof\, Rheinland-Pfalz\, 67117\, Deutschland
CATEGORIES:DTRBK-BUNDESVERBAND 🇩🇪,EVENT-Allgemein,TRBRLP-LANDESVERBAND 🇩🇪
ATTACH;FMTTYPE=image/jpeg:https://tatsu-ryu-bushido.com/wp-content/uploads/2022/12/AdobeStock_119295467_Termine-TRB.jpg
ORGANIZER;CN="%F0%9F%87%A9%F0%9F%87%AA Deutsche Tatsu-Ryu-Bushido Kai e.V.":MAILTO:kontakt@tatsu-ryu-bushido.com
GEO:49.41805;8.38915
X-APPLE-STRUCTURED-LOCATION;VALUE=URI;X-ADDRESS=🇩🇪 Carl-Bosch-Halle-Limburgerhof Carl-Bosch-Straße 9 Limburgerhof Rheinland-Pfalz 67117 Deutschland;X-APPLE-RADIUS=500;X-TITLE=Carl-Bosch-Straße 9:geo:8.38915,49.41805
END:VEVENT
END:VCALENDAR